BEGIN:VCALENDAR
VERSION:2.0
PRODID:-//Eastwind Christian Academy - ECPv6.15.20//NONSGML v1.0//EN
CALSCALE:GREGORIAN
METHOD:PUBLISH
X-ORIGINAL-URL:https://eastwindchristianacademy.com
X-WR-CALDESC:Events for Eastwind Christian Academy
REFRESH-INTERVAL;VALUE=DURATION:PT1H
X-Robots-Tag:noindex
X-PUBLISHED-TTL:PT1H
BEGIN:VTIMEZONE
TZID:UTC
BEGIN:STANDARD
TZOFFSETFROM:+0000
TZOFFSETTO:+0000
TZNAME:UTC
DTSTART:20240101T000000
END:STANDARD
END:VTIMEZONE
BEGIN:VEVENT
DTSTART;VALUE=DATE:20260403
DTEND;VALUE=DATE:20260404
DTSTAMP:20260423T144852
CREATED:20250316T021723Z
LAST-MODIFIED:20250316T021723Z
UID:1532-1775174400-1775260799@eastwindchristianacademy.com
SUMMARY:Good Friday (Holiday for All)
DESCRIPTION:
URL:https://eastwindchristianacademy.com/event/good-friday-holiday-for-all/
CATEGORIES:Holiday
END:VEVENT
BEGIN:VEVENT
DTSTART;VALUE=DATE:20260316
DTEND;VALUE=DATE:20260321
DTSTAMP:20260423T144852
CREATED:20250316T021638Z
LAST-MODIFIED:20250316T021638Z
UID:1529-1773619200-1774051199@eastwindchristianacademy.com
SUMMARY:Spring Break
DESCRIPTION:
URL:https://eastwindchristianacademy.com/event/spring-break/
CATEGORIES:Holiday
END:VEVENT
BEGIN:VEVENT
DTSTART;VALUE=DATE:20260313
DTEND;VALUE=DATE:20260314
DTSTAMP:20260423T144852
CREATED:20250316T021556Z
LAST-MODIFIED:20250316T021556Z
UID:1526-1773360000-1773446399@eastwindchristianacademy.com
SUMMARY:Teacher PD Day (Student Holiday)
DESCRIPTION:
URL:https://eastwindchristianacademy.com/event/teacher-pd-day-student-holiday/
CATEGORIES:Holiday,Key School Dates,Teachers
END:VEVENT
BEGIN:VEVENT
DTSTART;VALUE=DATE:20260216
DTEND;VALUE=DATE:20260217
DTSTAMP:20260423T144852
CREATED:20250316T021513Z
LAST-MODIFIED:20250316T021513Z
UID:1523-1771200000-1771286399@eastwindchristianacademy.com
SUMMARY:President’s Day / Teacher PD Day (Student Holiday)
DESCRIPTION:
URL:https://eastwindchristianacademy.com/event/presidents-day-teacher-pd-day-student-holiday/
CATEGORIES:Holiday
END:VEVENT
BEGIN:VEVENT
DTSTART;VALUE=DATE:20260105
DTEND;VALUE=DATE:20260106
DTSTAMP:20260423T144852
CREATED:20250316T021417Z
LAST-MODIFIED:20250316T021417Z
UID:1520-1767571200-1767657599@eastwindchristianacademy.com
SUMMARY:Teachers & Students Return
DESCRIPTION:
URL:https://eastwindchristianacademy.com/event/teachers-students-return/
LOCATION:Eastwind Christian Academy\, 1025 Emerson Dr. NE\, Palm Bay\, FL\, 32907\, United States
CATEGORIES:Key School Dates
END:VEVENT
BEGIN:VEVENT
DTSTART;VALUE=DATE:20260102
DTEND;VALUE=DATE:20260103
DTSTAMP:20260423T144852
CREATED:20250316T021334Z
LAST-MODIFIED:20250316T021334Z
UID:1517-1767312000-1767398399@eastwindchristianacademy.com
SUMMARY:Winter Break (Holiday for All)
DESCRIPTION:
URL:https://eastwindchristianacademy.com/event/winter-break-holiday-for-all/
CATEGORIES:Holiday
END:VEVENT
BEGIN:VEVENT
DTSTART;VALUE=DATE:20260101
DTEND;VALUE=DATE:20260102
DTSTAMP:20260423T144852
CREATED:20250316T021303Z
LAST-MODIFIED:20250316T021303Z
UID:1514-1767225600-1767311999@eastwindchristianacademy.com
SUMMARY:New Year’s Day (Holiday for All)
DESCRIPTION:
URL:https://eastwindchristianacademy.com/event/new-years-day-holiday-for-all/
CATEGORIES:Holiday
END:VEVENT
BEGIN:VEVENT
DTSTART;VALUE=DATE:20251222
DTEND;VALUE=DATE:20260101
DTSTAMP:20260423T144852
CREATED:20250316T021200Z
LAST-MODIFIED:20250316T021200Z
UID:1511-1766361600-1767225599@eastwindchristianacademy.com
SUMMARY:Christmas Break (Holiday for All)
DESCRIPTION:
URL:https://eastwindchristianacademy.com/event/christmas-break-holiday-for-all/
CATEGORIES:Holiday
END:VEVENT
BEGIN:VEVENT
DTSTART;VALUE=DATE:20251124
DTEND;VALUE=DATE:20251129
DTSTAMP:20260423T144852
CREATED:20250316T021108Z
LAST-MODIFIED:20250316T021108Z
UID:1508-1763942400-1764374399@eastwindchristianacademy.com
SUMMARY:Thanksgiving Break
DESCRIPTION:
URL:https://eastwindchristianacademy.com/event/thanksgiving-break/
CATEGORIES:Holiday
END:VEVENT
BEGIN:VEVENT
DTSTART;VALUE=DATE:20251111
DTEND;VALUE=DATE:20251112
DTSTAMP:20260423T144852
CREATED:20250316T021014Z
LAST-MODIFIED:20250316T021014Z
UID:1505-1762819200-1762905599@eastwindchristianacademy.com
SUMMARY:Veterans Day (Holiday for All)
DESCRIPTION:
URL:https://eastwindchristianacademy.com/event/veterans-day-holiday-for-all/
CATEGORIES:Holiday
END:VEVENT
BEGIN:VEVENT
DTSTART;VALUE=DATE:20251021
DTEND;VALUE=DATE:20251025
DTSTAMP:20260423T144852
CREATED:20250316T020935Z
LAST-MODIFIED:20250316T020935Z
UID:1502-1761004800-1761350399@eastwindchristianacademy.com
SUMMARY:Fall Break
DESCRIPTION:
URL:https://eastwindchristianacademy.com/event/fall-break/
CATEGORIES:Holiday
END:VEVENT
BEGIN:VEVENT
DTSTART;VALUE=DATE:20251020
DTEND;VALUE=DATE:20251021
DTSTAMP:20260423T144852
CREATED:20250316T020825Z
LAST-MODIFIED:20250316T020825Z
UID:1499-1760918400-1761004799@eastwindchristianacademy.com
SUMMARY:Teacher Work Day (Student Holiday)
DESCRIPTION:
URL:https://eastwindchristianacademy.com/event/teacher-work-day-student-holiday/
CATEGORIES:Holiday,Teachers
END:VEVENT
BEGIN:VEVENT
DTSTART;VALUE=DATE:20251014
DTEND;VALUE=DATE:20251015
DTSTAMP:20260423T144852
CREATED:20250316T020709Z
LAST-MODIFIED:20250316T020709Z
UID:1496-1760400000-1760486399@eastwindchristianacademy.com
SUMMARY:Parent Conferences
DESCRIPTION:
URL:https://eastwindchristianacademy.com/event/parent-conferences/
LOCATION:Eastwind Christian Academy\, 1025 Emerson Dr. NE\, Palm Bay\, FL\, 32907\, United States
CATEGORIES:Key School Dates,Teachers
END:VEVENT
BEGIN:VEVENT
DTSTART;VALUE=DATE:20250911
DTEND;VALUE=DATE:20250912
DTSTAMP:20260423T144852
CREATED:20250316T020456Z
LAST-MODIFIED:20250316T020456Z
UID:1493-1757548800-1757635199@eastwindchristianacademy.com
SUMMARY:Parent Open House
DESCRIPTION:
URL:https://eastwindchristianacademy.com/event/parent-open-house/
LOCATION:Eastwind Christian Academy\, 1025 Emerson Dr. NE\, Palm Bay\, FL\, 32907\, United States
CATEGORIES:Key School Dates
END:VEVENT
BEGIN:VEVENT
DTSTART;VALUE=DATE:20250901
DTEND;VALUE=DATE:20250902
DTSTAMP:20260423T144852
CREATED:20250316T020006Z
LAST-MODIFIED:20250316T020006Z
UID:1486-1756684800-1756771199@eastwindchristianacademy.com
SUMMARY:Labor Day (Holiday for All)
DESCRIPTION:
URL:https://eastwindchristianacademy.com/event/labor-day-holiday-for-all/
CATEGORIES:Holiday
END:VEVENT
BEGIN:VEVENT
DTSTART;VALUE=DATE:20250811
DTEND;VALUE=DATE:20250812
DTSTAMP:20260423T144852
CREATED:20250316T015651Z
LAST-MODIFIED:20250316T015651Z
UID:1480-1754870400-1754956799@eastwindchristianacademy.com
SUMMARY:First Day of School for Students
DESCRIPTION:
URL:https://eastwindchristianacademy.com/event/first-day-of-school-for-students/
LOCATION:Eastwind Christian Academy\, 1025 Emerson Dr. NE\, Palm Bay\, FL\, 32907\, United States
CATEGORIES:Key School Dates
END:VEVENT
BEGIN:VEVENT
DTSTART;VALUE=DATE:20250805
DTEND;VALUE=DATE:20250809
DTSTAMP:20260423T144852
CREATED:20250316T015500Z
LAST-MODIFIED:20250316T015500Z
UID:1477-1754352000-1754697599@eastwindchristianacademy.com
SUMMARY:Teachers Report (Pre-Planning)
DESCRIPTION:
URL:https://eastwindchristianacademy.com/event/teachers-report-pre-planning/
CATEGORIES:Key School Dates,Teachers
END:VEVENT
BEGIN:VEVENT
DTSTART;VALUE=DATE:20250522
DTEND;VALUE=DATE:20250523
DTSTAMP:20260423T144852
CREATED:20250316T011623Z
LAST-MODIFIED:20250316T011623Z
UID:1474-1747872000-1747958399@eastwindchristianacademy.com
SUMMARY:Last Day for Students
DESCRIPTION:
URL:https://eastwindchristianacademy.com/event/last-day-for-students/
CATEGORIES:Key School Dates
END:VEVENT
BEGIN:VEVENT
DTSTART;VALUE=DATE:20250414
DTEND;VALUE=DATE:20250419
DTSTAMP:20260423T144852
CREATED:20250316T011225Z
LAST-MODIFIED:20250316T020149Z
UID:1471-1744588800-1745020799@eastwindchristianacademy.com
SUMMARY:Easter Break (HOLIDAY FOR All)
DESCRIPTION:
URL:https://eastwindchristianacademy.com/event/easter-break-holiday/
CATEGORIES:Holiday
END:VEVENT
BEGIN:VEVENT
DTSTART;VALUE=DATE:20250317
DTEND;VALUE=DATE:20250323
DTSTAMP:20260423T144852
CREATED:20250316T010058Z
LAST-MODIFIED:20250316T020209Z
UID:1462-1742169600-1742687999@eastwindchristianacademy.com
SUMMARY:Spring Break (HOLIDAY FOR ALL)
DESCRIPTION:
URL:https://eastwindchristianacademy.com/event/spring-break-holidays-for-all/
CATEGORIES:Holiday
END:VEVENT
END:VCALENDAR