BEGIN:VCALENDAR
VERSION:2.0
PRODID:-//Eastwind Christian Academy - ECPv6.15.20//NONSGML v1.0//EN
CALSCALE:GREGORIAN
METHOD:PUBLISH
X-WR-CALNAME:Eastwind Christian Academy
X-ORIGINAL-URL:https://eastwindchristianacademy.com
X-WR-CALDESC:Events for Eastwind Christian Academy
REFRESH-INTERVAL;VALUE=DURATION:PT1H
X-Robots-Tag:noindex
X-PUBLISHED-TTL:PT1H
BEGIN:VTIMEZONE
TZID:UTC
BEGIN:STANDARD
TZOFFSETFROM:+0000
TZOFFSETTO:+0000
TZNAME:UTC
DTSTART:20240101T000000
END:STANDARD
END:VTIMEZONE
BEGIN:VEVENT
DTSTART;VALUE=DATE:20250811
DTEND;VALUE=DATE:20250812
DTSTAMP:20260424T035411
CREATED:20250316T015651Z
LAST-MODIFIED:20250316T015651Z
UID:1480-1754870400-1754956799@eastwindchristianacademy.com
SUMMARY:First Day of School for Students
DESCRIPTION:
URL:https://eastwindchristianacademy.com/event/first-day-of-school-for-students/
LOCATION:Eastwind Christian Academy\, 1025 Emerson Dr. NE\, Palm Bay\, FL\, 32907\, United States
CATEGORIES:Key School Dates
END:VEVENT
END:VCALENDAR